<?xml version="1.0" encoding="UTF-8"?>
<Capabilities xmlns="http://www.opengis.net/wmts/1.0"
	xmlns:ows="http://www.opengis.net/ows/1.1"
	xmlns:xlink="http://www.w3.org/1999/xlink"
	xmlns:xsi="http://www.w3.org/2001/XMLSchema-instance"
	xmlns:gml="http://www.opengis.net/gml"
	xsi:schemaLocation="http://www.opengis.net/wmts/1.0 http://schemas.opengis.net/wmts/1.0/wmtsGetCapabilities_response.xsd"
	version="1.0.0">
  <!-- Service Identification --> 
 <ows:ServiceIdentification>
	<ows:Title>Basemaps_Public_gray_canvas_basemap</ows:Title>
	<ows:ServiceType>OGC WMTS</ows:ServiceType>
	<ows:ServiceTypeVersion>1.0.0</ows:ServiceTypeVersion>
</ows:ServiceIdentification> <!-- Operations Metadata --> <ows:OperationsMetadata>
	<ows:Operation name="GetCapabilities">
		<ows:DCP>
			<ows:HTTP>
				<ows:Get xlink:href="https://svr.tigardmaps.com/ArcGIS/rest/services/Basemaps_Public/gray_canvas_basemap/MapServer/WMTS/1.0.0/WMTSCapabilities.xml">
					<ows:Constraint name="GetEncoding">
						<ows:AllowedValues>
							<ows:Value>RESTful</ows:Value>
						</ows:AllowedValues>
					</ows:Constraint>
				</ows:Get>
                <!-- add KVP binding in 10.1 -->
                <ows:Get xlink:href="https://svr.tigardmaps.com/ArcGIS/rest/services/Basemaps_Public/gray_canvas_basemap/MapServer/WMTS?">
                  <ows:Constraint name="GetEncoding">
                    <ows:AllowedValues>
                      <ows:Value>KVP</ows:Value>
                    </ows:AllowedValues>
                  </ows:Constraint>
                </ows:Get>
    		</ows:HTTP>
    </ows:DCP>
	</ows:Operation>
	<ows:Operation name="GetTile">
		<ows:DCP>
			<ows:HTTP>
				<ows:Get xlink:href="https://svr.tigardmaps.com/ArcGIS/rest/services/Basemaps_Public/gray_canvas_basemap/MapServer/WMTS/tile/1.0.0/">
					<ows:Constraint name="GetEncoding">
						<ows:AllowedValues>
							<ows:Value>RESTful</ows:Value>
						</ows:AllowedValues>
					</ows:Constraint>
				</ows:Get>
                <ows:Get xlink:href="https://svr.tigardmaps.com/ArcGIS/rest/services/Basemaps_Public/gray_canvas_basemap/MapServer/WMTS?">
                  <ows:Constraint name="GetEncoding">
                    <ows:AllowedValues>
                      <ows:Value>KVP</ows:Value>
                    </ows:AllowedValues>
                  </ows:Constraint>
                </ows:Get>
            </ows:HTTP>
		</ows:DCP>
	</ows:Operation>
</ows:OperationsMetadata> 
<Contents>
  <!--Layer-->  
  <Layer>
    <ows:Title>Basemaps_Public_gray_canvas_basemap</ows:Title> 
    <ows:Identifier>Basemaps_Public_gray_canvas_basemap</ows:Identifier>
    <ows:BoundingBox crs="urn:ogc:def:crs:EPSG::2913">
	  <ows:LowerCorner>7435781.594558492 447887.7045918107</ows:LowerCorner>
			<ows:UpperCorner>7904953.635214627 877394.0614244491</ows:UpperCorner>
		</ows:BoundingBox>  
      <ows:WGS84BoundingBox crs="urn:ogc:def:crs:OGC:2:84">
      <ows:LowerCorner>-123.51780324768126 44.85674111097076</ows:LowerCorner>
      <ows:UpperCorner>-121.64662703498021 46.06728391165367</ows:UpperCorner>
    </ows:WGS84BoundingBox>
    <Style isDefault="true">
      <ows:Title>Default Style</ows:Title>
      <ows:Identifier>default</ows:Identifier>
    </Style>
    <Format>image/png</Format>
    <TileMatrixSetLink>
      <TileMatrixSet>default028mm</TileMatrixSet>
    </TileMatrixSetLink>
      <ResourceURL format="image/png" resourceType="tile" template="https://svr.tigardmaps.com/ArcGIS/rest/services/Basemaps_Public/gray_canvas_basemap/MapServer/WMTS/tile/1.0.0/Basemaps_Public_gray_canvas_basemap/{Style}/{TileMatrixSet}/{TileMatrix}/{TileRow}/{TileCol}.png" />
  </Layer> 
   <!--TileMatrixSet-->
   <TileMatrixSet>
     <ows:Title>TileMatrix using 0.28mm</ows:Title>
     <ows:Abstract>The tile matrix set that has scale values calculated based on the dpi defined by OGC specification (dpi assumes 0.28mm as the physical distance of a pixel).</ows:Abstract> 
     <ows:Identifier>default028mm</ows:Identifier>
     <ows:SupportedCRS>urn:ogc:def:crs:EPSG::2913</ows:SupportedCRS>
      <TileMatrix>
          <ows:Identifier>0</ows:Identifier>
          <ScaleDenominator>944942.3660750894</ScaleDenominator>
          <TopLeftCorner>-1.113336E8 1.409189E8</TopLeftCorner>  
          <TileWidth>256</TileWidth> 
          <TileHeight>256</TileHeight>
          <MatrixWidth>537</MatrixWidth> 
            <MatrixHeight>633</MatrixHeight>
          </TileMatrix>
          <TileMatrix>
          <ows:Identifier>1</ows:Identifier>
          <ScaleDenominator>472471.1830375447</ScaleDenominator>
          <TopLeftCorner>-1.113336E8 1.409189E8</TopLeftCorner>  
          <TileWidth>256</TileWidth> 
          <TileHeight>256</TileHeight>
          <MatrixWidth>1074</MatrixWidth> 
            <MatrixHeight>1265</MatrixHeight>
          </TileMatrix>
          <TileMatrix>
          <ows:Identifier>2</ows:Identifier>
          <ScaleDenominator>236235.59151877236</ScaleDenominator>
          <TopLeftCorner>-1.113336E8 1.409189E8</TopLeftCorner>  
          <TileWidth>256</TileWidth> 
          <TileHeight>256</TileHeight>
          <MatrixWidth>2147</MatrixWidth> 
            <MatrixHeight>2529</MatrixHeight>
          </TileMatrix>
          <TileMatrix>
          <ows:Identifier>3</ows:Identifier>
          <ScaleDenominator>118117.79575938618</ScaleDenominator>
          <TopLeftCorner>-1.113336E8 1.409189E8</TopLeftCorner>  
          <TileWidth>256</TileWidth> 
          <TileHeight>256</TileHeight>
          <MatrixWidth>4293</MatrixWidth> 
            <MatrixHeight>5057</MatrixHeight>
          </TileMatrix>
          <TileMatrix>
          <ows:Identifier>4</ows:Identifier>
          <ScaleDenominator>60476.311428805726</ScaleDenominator>
          <TopLeftCorner>-1.113336E8 1.409189E8</TopLeftCorner>  
          <TileWidth>256</TileWidth> 
          <TileHeight>256</TileHeight>
          <MatrixWidth>8384</MatrixWidth> 
            <MatrixHeight>9877</MatrixHeight>
          </TileMatrix>
          <TileMatrix>
          <ows:Identifier>5</ows:Identifier>
          <ScaleDenominator>30238.155714402863</ScaleDenominator>
          <TopLeftCorner>-1.113336E8 1.409189E8</TopLeftCorner>  
          <TileWidth>256</TileWidth> 
          <TileHeight>256</TileHeight>
          <MatrixWidth>16768</MatrixWidth> 
            <MatrixHeight>19754</MatrixHeight>
          </TileMatrix>
          <TileMatrix>
          <ows:Identifier>6</ows:Identifier>
          <ScaleDenominator>15119.077857201431</ScaleDenominator>
          <TopLeftCorner>-1.113336E8 1.409189E8</TopLeftCorner>  
          <TileWidth>256</TileWidth> 
          <TileHeight>256</TileHeight>
          <MatrixWidth>33536</MatrixWidth> 
            <MatrixHeight>39508</MatrixHeight>
          </TileMatrix>
          <TileMatrix>
          <ows:Identifier>7</ows:Identifier>
          <ScaleDenominator>7559.538928600716</ScaleDenominator>
          <TopLeftCorner>-1.113336E8 1.409189E8</TopLeftCorner>  
          <TileWidth>256</TileWidth> 
          <TileHeight>256</TileHeight>
          <MatrixWidth>67072</MatrixWidth> 
            <MatrixHeight>79015</MatrixHeight>
          </TileMatrix>
          <TileMatrix>
          <ows:Identifier>8</ows:Identifier>
          <ScaleDenominator>3779.769464300358</ScaleDenominator>
          <TopLeftCorner>-1.113336E8 1.409189E8</TopLeftCorner>  
          <TileWidth>256</TileWidth> 
          <TileHeight>256</TileHeight>
          <MatrixWidth>134144</MatrixWidth> 
            <MatrixHeight>158030</MatrixHeight>
          </TileMatrix>
          <TileMatrix>
          <ows:Identifier>9</ows:Identifier>
          <ScaleDenominator>1889.884732150179</ScaleDenominator>
          <TopLeftCorner>-1.113336E8 1.409189E8</TopLeftCorner>  
          <TileWidth>256</TileWidth> 
          <TileHeight>256</TileHeight>
          <MatrixWidth>268287</MatrixWidth> 
            <MatrixHeight>316060</MatrixHeight>
          </TileMatrix>
          <TileMatrix>
          <ows:Identifier>10</ows:Identifier>
          <ScaleDenominator>944.9423660750895</ScaleDenominator>
          <TopLeftCorner>-1.113336E8 1.409189E8</TopLeftCorner>  
          <TileWidth>256</TileWidth> 
          <TileHeight>256</TileHeight>
          <MatrixWidth>536573</MatrixWidth> 
            <MatrixHeight>632119</MatrixHeight>
          </TileMatrix>
          <TileMatrix>
          <ows:Identifier>11</ows:Identifier>
          <ScaleDenominator>472.47118303754473</ScaleDenominator>
          <TopLeftCorner>-1.113336E8 1.409189E8</TopLeftCorner>  
          <TileWidth>256</TileWidth> 
          <TileHeight>256</TileHeight>
          <MatrixWidth>1073145</MatrixWidth> 
            <MatrixHeight>1264237</MatrixHeight>
          </TileMatrix>
          </TileMatrixSet>
   </Contents>
<ServiceMetadataURL xlink:href="https://svr.tigardmaps.com/ArcGIS/rest/services/Basemaps_Public/gray_canvas_basemap/MapServer/WMTS/1.0.0/WMTSCapabilities.xml" /> 
</Capabilities>
